BEGIN:VCALENDAR
VERSION:2.0
PRODID:-//eventon.com NONSGML v1.0//EN
BEGIN:VEVENT
UID:69e5797a45770
DTSTAMP:20260420T025522
DTSTART:20260421T164500Z
DTEND:20260421T215000Z
LOCATION:Palazzo Banci Buonamici Via Ricasoli 25
SUMMARY:Sicurezza e Tutela dei Diritti
DESCRIPTION: A Prato la sicurezza non si affronta con gli slogan\,  ma con proposte serie\,  equilibrio e presenza dello Stato sul territorio. Per questo martedì 21 aprile promuoviamo un incontro pubblico su un tema che riguarda ogni cittadino: come garantire più sicurezza senza arretrare sui diritti. Nel corso della serata presenteremo[..]
END:VEVENT
END:VCALENDAR